BEGIN:VCALENDAR
VERSION:2.0
PRODID:https://github.com/derhansen/sf_event_mgt
METHOD:PUBLISH
BEGIN:VEVENT
UID:10886-8511@www.uni-passau.de
CLASS: PUBLIC
SUMMARY:Berufe im Profil international: HR Manager in Action – Advancing Sustainability and Climate Innovation
DESCRIPTION:• Yoali Sandoval completed her M.A. in Governance and Public 
 Policy at the University of Passau and a B.A. in International Relations a
 t ITESO University in Guadalajara, Mexico.\n\n• She previously worked in
  Mexico at a private university, in the public sector, and at a German pol
 itical foundation. After relocating to Germany for a master’s degree, sh
 e gained experience through an internship at the GIZ and a role as a proje
 ct assistant at the Munich Security Conference.\n\n• Now she is based in
  Berlin, working at a think tank dedicated to developing policy recommenda
 tions for climate innovation.\n\n\n\nSpeaker: Yoali Sandoval\n\nDate: Wedn
 esday, 18/06/2025\n\nTime: 6:00-8:00 pm\n\nRoom: Ludwigstraße 8 - SR 307\
 n\nStud.IP: 65015\n\n\n\nFurther information: The event (on-site) is acces
 s free, a registration in Stud.IP is not necessary. Nonetheless we kindly 
 ask you to sign in to the Stud.IP course.\n\n\n\nIn cooperation with iStud
 i Coach.\n\n\n\nIn English. For international students.
DTSTAMP:20250430T080918Z
DTSTART:20250618T160000Z
DTEND:20250618T180000Z
END:VEVENT
END:VCALENDAR