BEGIN:VCALENDAR
VERSION:2.0
PRODID:https://github.com/derhansen/sf_event_mgt
METHOD:PUBLISH
BEGIN:VEVENT
UID:10688-8511@www.uni-passau.de
CLASS: PUBLIC
SUMMARY:Honours Degree in Entre­preneurship
DESCRIPTION:The Honours Degree in Entrepreneurship is the first interdiscip
 linary certificate course supported by chairs from all faculties at the Un
 iversity of Passau.\n\nStudents from all faculties, Bachelor's and Master'
 s programmes and all semesters can take part.\n\nParticipants should alrea
 dy have an initial idea and possibly also a team. Individuals can try to f
 ound a team or join a team during the Focus Days.\n\nThe focus is on devel
 oping a business model which, above all, contains a solid business plan an
 d is presented in a comprehensible manner.\n\nThe seminars are held both b
 y the participating chairs and by external speakers.\n\nNew this cohort: a
  podcast series that is exclusively available to participants and will be 
 recorded by alumni of the University of Passau from the Entrepreneurship C
 ontext (currently in progress). This is intended to combine role models an
 d content input and incentivise participants to put the content into pract
 ice.\n\nProgram duration: April 24 to November 20, 2025.
DTSTAMP:20250305T100726Z
DTSTART:20250424T080000Z
DTEND:20250424T160000Z
END:VEVENT
END:VCALENDAR