BEGIN:VCALENDAR
VERSION:2.0
PRODID:https://github.com/derhansen/sf_event_mgt
METHOD:PUBLISH
BEGIN:VEVENT
UID:11362-7153@www.uni-passau.de
CLASS: PUBLIC
SUMMARY:Austauschtreffen für beruflich Qualifizierte und Erstakademiker:innen
DESCRIPTION:Zu Beginn des Sommersemesters organisieren wir ein Treffen in P
 räsenz mit Tee und Kuchen. Das Treffen im lockeren Rahmen ist zum Kennen 
 lernen und zum ersten Erfahrungsaustausch nach Semesterbeginn gedacht. Wir
  freuen uns auf Sie!\n\n\n\nZielgruppe: \n\n- Studierende mit Hochschulzug
 ang über eine berufliche Qualifikation\n\n- Späteinsteiger:innen\n\n- Er
 stakademiker:innen (Studierende, die als erste in ihrer Familie studieren)
 \n\n\n\nBitte melden Sie sich unter studienberatung@uni-passau.de an, wenn
  Sie teilnehmen möchten.\n\nWir freuen uns auf Sie!\n\n\n\nIhr Team der S
 tudienberatung
DTSTAMP:20260324T100239Z
DTSTART:20260424T063000Z
DTEND:20260424T080000Z
END:VEVENT
END:VCALENDAR