BEGIN:VCALENDAR
VERSION:2.0
PRODID:https://github.com/derhansen/sf_event_mgt
METHOD:PUBLISH
BEGIN:VEVENT
UID:11398-7153@www.uni-passau.de
CLASS: PUBLIC
SUMMARY:DAAD-Sommerseminar 2026: Oberschlesische Bewegungen - Ideen einer territorialen und kulturellen Autonomie
DESCRIPTION:Referent: Jerzy Gorzelik, Dr. habil., Associate Professor, Uniw
 ersytet Śląski w Katowicach\n\n\n\nPerson: Professor für Kunstgeschicht
 e an der Schlesischen Universität in Kattowitz; Forschungsschwerpunkte: Z
 usammenhang zwischen Kunst, Kunstgeschichtsschreibung, Kulturerbe und mode
 rnen Gruppenidentitäten. Vorsitzender der Bewegung für Autonomie Schlesi
 ens, ehemaliger Abgeordneter der Regionalversammlung der Woiwodschaft Schl
 esien und Mitglied des Woiwodschaftsvorstandes.\n\n\n\nInhalt: "In der zwe
 iten Hälfte des 19. Jahrhunderts entwickelte sich eine moderne oberschles
 ische Identität, die ihren Platz zwischen dem deutschen und dem polnische
 n Nationalismus fand. Nach dem Ersten Weltkrieg, als eine Volksabstimmung 
 über die Zugehörigkeit der Region entscheiden sollte, haben Berlin und W
 arschau Zugeständnisse zugunsten der sich emanzipierenden Bevölkerung ge
 macht. Diese wurden später von Nationalsozialisten und Kommunisten abgesc
 hafft. Wie orientiert sich die nach der Wende entstandene Autonomiebewegun
 g an diesen Traditionen? Welche Ziele wurden vorgesetzt, wie effektiv und 
 mit welchen Mitteln werden sie angestrebt?" \n\n\n\n* Informationen und In
 halte wurden von dem Referenten bereitgestellt
DTSTAMP:20260413T072729Z
DTSTART:20260507T160000Z
DTEND:20260507T173000Z
END:VEVENT
END:VCALENDAR