BEGIN:VCALENDAR
VERSION:2.0
PRODID:https://github.com/derhansen/sf_event_mgt
METHOD:PUBLISH
BEGIN:VEVENT
UID:11335-7153@www.uni-passau.de
CLASS: PUBLIC
SUMMARY:Digital Tag 2026
DESCRIPTION:Am 12. Mai 2026 findet der Digital Tag bereits zum siebten Mal 
 statt. In diesem Jahr laden wir Sie herzlich nach Deggendorf ein und präs
 entieren erneut Ansätze und Strategien für KMU aus Handwerk, Industrie &
  Handel und ermöglich den Austausch mit Expertinnen und Experten zu versc
 hiedenen Schwerpunktthemen.\n\nWas wir Ihnen bieten:\n\nKonkrete Anwendung
 sszenarien und Praxiserfahrungen mit greifbarem Mehrwert\n\nOffene Austaus
 chrunden auf Augenhöhe mit aktuellen Impulsen aus der Forschung\n\nPanels
  und praxisnahe Workshops mit unterschiedlichen Fokusthemen für das eigen
 e Unternehmen
DTSTAMP:20260409T095026Z
DTSTART:20260512T070000Z
DTEND:20260512T143000Z
END:VEVENT
END:VCALENDAR