BEGIN:VCALENDAR
VERSION:2.0
PRODID:https://github.com/derhansen/sf_event_mgt
METHOD:PUBLISH
BEGIN:VEVENT
UID:10011-7153@www.uni-passau.de
CLASS: PUBLIC
SUMMARY:EUropaTour Bayern 2024  an der Uni Passau
DESCRIPTION:Die Uni Passau feiert Europa in der Europawoche am 6. und 7. Ma
 i 2024\n\n\n\nIn der Europäischen Union werden seit 1985 jährlich am 9. 
 Mai Frieden und Einheit zwischen den Mitgliedstaaten gefeiert. Anlass ist 
 die Rede des französischen Außenministers Robert Schuman, der an diesem 
 Tag vor 73 Jahren vorschlug, in der Europäischen Gemeinschaft für Kohle 
 und Stahl (EGKS) die Produktion dieser kriegswichtigen Güter in den Mitgl
 iedstaaten zusammenzulegen. Es beteiligten sich damals Belgien, Deutschlan
 d, Frankreich, Italien, Luxemburg und die Niederlande. Ziel war es, weiter
 e Kriege zwischen den Mitgliedstaaten zu verhindern.\n\n\n\nIn diesem Jahr
  - und mit Blick auf die Europawahlen am 9. Juni 2024 -  feiert die Uni Pa
 ssau den Europatag gleich mehrmals. \n\n\n\nLos geht es am 6. Mai 2023 mit
  der Wanderausstellung der Bayerischen Staatskanzlei "Europa-Sterne", die 
 bis zum zum 31. Mai läuft. \n\n\n\nEbenfalls am 6. Mai 2024 findet von 18
  bis 20 Uhr in der Library Lounge "Europa: Vision, Utopie, Realität?! –
  ein Leseabend" statt (Prof. Dr. Marina Ortrud Hertrampf, Professur für R
 omanische Literatur- und Kulturwissenschaft (Schwerpunkt Frankreich) mit d
 en Studierenden Elena Goldhofer, Kevin Burger und Maximilian Hollweck). \n
 \n\n\nAm 7. Mai 2024 ist die „EUropaTour Bayern 2024“ der Bayerischen 
 Staatskanzlei zu Gast (Aufstellung im Klostergarten). Die Tour macht in in
 sgesamt 43 Kommunen in allen Regierungsbezirken Bayerns für jeweils einen
  Tag Station. Unter dem Slogan „Wähle Deine Zukunft“ bietet die Tour 
 ein umfangreiches Programm zum Mitmachen, Lernen und Erleben rund um die E
 uropäische Union für Jung und Alt – z.B. ein Lern- und Diskussionsparc
 ours, Workshops, Bürgerforen, Planspiele, das Multimedia-Format „Dokuli
 ve“, eine Fotobox, Live-Podcasts, Gewinnspiele, ein Video-Tagebuch sowie
  ein Kinderprogramm. Kooperationspartner sind u.a. die Landeszentrale für
  politische Bildungsarbeit, das Verbindungsbüro des Europäischen Parlame
 nts in München und die Vertretung der Europäischen Kommission in Münche
 n. \n\n\n\n\n\nDas umfangreiche Programm wird von zahlreichen Angeboten (u
 .a. Workshops in den Räumen NK 201 bis 206) der Uni Passau ergänzt. Koop
 erationspartner des Science Hub for Europe sind der Alumni Club, die Hochs
 chulgruppen GoverNet und JEF Passau, Europe Direct (Europahaus Freyung), d
 ie Europaregion Donau-Moldau sowie die Professur für Romanische Literatur
 - und Kulturwissenschaft (Schwerpunkt Frankreich), der Jean-Monnet-Lehrstu
 hl für Europäische Politik, der Lehrstuhl für Neuere und Neueste Geschi
 chte Osteuropas und seiner Kulturen und der Lehrstuhl für Erziehungswisse
 nschaft mit dem Schwerpunkt Diversitätsforschung und Bildungsräume der M
 ittleren Kindheit. \n\n
DTSTAMP:20240321T111539Z
DTSTART:20240506T160000Z
DTEND:20240507T180000Z
END:VEVENT
END:VCALENDAR