BEGIN:VCALENDAR
VERSION:2.0
PRODID:https://github.com/derhansen/sf_event_mgt
METHOD:PUBLISH
BEGIN:VEVENT
UID:10382-7153@www.uni-passau.de
CLASS: PUBLIC
SUMMARY:GeoComPass AKTUELL: China und die Neuordnung der Welt
DESCRIPTION:In China besteht nicht erst seit wenigen Jahren, sondern seit v
 ielen Jahrhunderten die Tradition, das Reich als Zentrum nicht nur Ostasie
 ns, sondern der gesamten Welt zu betrachten. Ist Chinas aktueller Aufstieg
  somit als Fortschreibung dieses alten Anspruchs zu deuten?\n\n\n\nMit den
  Opium-Kriegen in der Mitte des 19.Jahrhunderts und dem Krieg gegen Japan 
 1894/95 verlor das Reich der Qing seine selbst beanspruchte zentrale Posit
 ion in Ostasien und in der Welt. Seitdem haben die chinesischen Eliten auf
  vielfÃ¤ltige Weise versucht, Chinas Anerkennung als Weltmacht wieder zu e
 rlangen. In diesem Sinne hat sich die 1912 gegrÃ¼ndete Republik China in d
 ie beiden Weltkriege eingebracht, das China Maos eine herausragende Positi
 on in der internationalen kommunistischen Weltbewegung angestrebt und Chin
 a in den vergangenen vier Jahrzehnten im Zuge der Politik von Reform und Ã
 –ffnung Schritt fÃ¼r Schritt in die Weltwirtschaft integriert. Die renommi
 erte China-Expertin Univ.-Prof. Dr. Susanne Weigelin-Schwiedrzik wird in i
 hrem Vortrag die KontinuitÃ¤t dieses chinesischen Bestrebens, trotz vieler
  politischer UmbrÃ¼che, nachzeichnen und damit eine Grundlage legen, die a
 ktuellen weltpolitischen Schritte der Volksrepublik China zu verstehen und
  historisch einzuordnen.\n\n\n\nReferentin: Prof. Dr. Susanne Weigelin-Sch
 wiedrzik (Wien)\n\n\n\nEintrittspreise: \n\n5â‚¬ regulÃ¤r\n\n3â‚¬ ermÃ¤ÃŸi
 gt\n\nAls GeoComPass MITGLIED haben Sie freien Eintritt zu allen Vortragsv
 eranstaltungen.
DTSTAMP:20240902T142209Z
DTSTART:20241104T180000Z
DTEND:20241104T200000Z
END:VEVENT
END:VCALENDAR