BEGIN:VCALENDAR
VERSION:2.0
PRODID:https://github.com/derhansen/sf_event_mgt
METHOD:PUBLISH
BEGIN:VEVENT
UID:10694-7153@www.uni-passau.de
CLASS: PUBLIC
SUMMARY:GeoComPass THEMA: Floreana, Robinson Crusoe und Rapa Nui - Insel­erzählungen aus dem östlichen Pazifik
DESCRIPTION:Drei verschwindend kleine Inseln in den Weiten des östlichen P
 azifiks – sie alle haben Menschen von weither angezogen, ob in längst v
 ergangenen Zeiten die mit erstaunlichem Orientierungssinn navigierenden Po
 lynesier oder erst vor wenigen Jahrzehnten Deutsche und Österreicher, die
  es auf diese abgelegenen Eilande verschlug. Die Rede ist von Floreana, Ro
 binson Crusoe und Rapa Nui. Eine insulare Trilogie von absoluter Einsamkei
 t, unbedingtem Überlebenswillen und grenzenloser Hoffnung - mit überrasc
 henden Erkenntnissen.\n\n\n\nSo unterschiedliche Forscherpersönlichkeiten
  wie Charles Darwin und Thor Heyerdahl besuchten die ecuadorianische Galá
 pagosinsel Floreana. Bleibende Spuren haben dort jedoch Deutsche und Öste
 rreicher hinterlassen. Ihr Aufenthalt in der neuen pazifisch-äquatorialen
  Heimat war konfliktreich und für einige tödlich. 3.800 Kilometer südli
 ch von Floreana haben Ziegen, Kaninchen, Baumdiebe und Tsunamis über Jahr
 hunderte die chilenische Isla Robinson Crusoe verwüstet. Auf ihr wurde de
 r schottische Seemann Alexander Selkirk 1704 ausgesetzt. Daniel Defoe vern
 ahm 1709 in London Selkirks Berichte von dessen einzigartigem Inselabenteu
 er und schrieb daraufhin den Roman „Robinson Crusoe“. Rapa Nui wiederu
 m ist eine der abgelegensten bewohnten Inseln der Erde. Sie liegt 3.000 Ki
 lometer westlich der Isla Robinson Crusoe und trug bis vor kurzem den Kolo
 nialnamen Isla de Pascua, Osterinsel. Manche, unter ihnen Jared Diamond, m
 einen, hier hätten die Indigenen einen Ökokollaps ausgelöst. Was tatsä
 chlich auf dem chilenischen Eiland geschah, wird der Referent, aufbauend a
 uf eigenen Forschungsergebnissen, präsentieren.\n\n\n\nReferent: Prof. Dr
 . Hans-Rudolf Bork (Kiel)
DTSTAMP:20250220T101553Z
DTSTART:20250428T170000Z
DTEND:20250428T190000Z
END:VEVENT
END:VCALENDAR