BEGIN:VCALENDAR
VERSION:2.0
PRODID:https://github.com/derhansen/sf_event_mgt
METHOD:PUBLISH
BEGIN:VEVENT
UID:10621-7153@www.uni-passau.de
CLASS: PUBLIC
SUMMARY:InformationsÂ­veranstaltung zum Auslandsstudium in European Studies
DESCRIPTION:Trau dich und GO OUT!\n\n\n\nInfo-Veranstaltung fÃ¼r Studierend
 e im B.A. ES, B.A. EM sowie M.A. ES.\n\n\n\nWir helfen Ihnen bei Ihren Fra
 gen rund um das Thema Auslandsstudium.\n\n\n\nIm Bachelor European Studies
  sowie European Studies Major ist der Auslandsaufenthalt ein Pflichtbestan
 dteil, doch auch im Master European Studies ist er eine sinnvolle ErgÃ¤nzu
 ng. Sie Ã¼berlegen noch, wann der richtige Zeitpunkt ist? Sie wissen noch 
 nicht, wohin Sie eigentlich gehen mÃ¶chten? Oder sind Sie gar noch ganz un
 entschlossen, ob ein Auslandsstudium Ã¼berhaupt infrage kommt? Egal wie we
 it Sie mit Ihren PlÃ¤nen zum Auslandsaufenthalt sind, sind Sie bei dieser 
 Veranstaltung richtig.\n\n\n\nDas Akademische Auslandsamt informiert Sie Ã
 ¼ber die FÃ¶rdermÃ¶glichkeiten im Erasmus+ Programm, Bewerbung sowie Frist
 en. Die FakultÃ¤t stellt Ihnen ausgewÃ¤hlte PartneruniversitÃ¤ten vor und 
 gibt Ihnen Tipps zur Vorbereitung der Leistungsanerkennung.
DTSTAMP:20241202T081719Z
DTSTART:20241204T170000Z
DTEND:20241204T180000Z
END:VEVENT
END:VCALENDAR