BEGIN:VCALENDAR
VERSION:2.0
PRODID:https://github.com/derhansen/sf_event_mgt
METHOD:PUBLISH
BEGIN:VEVENT
UID:11424-7153@www.uni-passau.de
CLASS: PUBLIC
SUMMARY:Internationale Netzwerktagung ,,Religiöse Identitäten in (Mittel- und Ost-) Europa" 
DESCRIPTION:Die zweite internationale Netzwerkkonferenz ,,Religiöse Identi
 täten in (Mittel- und Ost-) Europa" findet an der Universität Passau sta
 tt und lädt Forschende aus Mittel- und Osteuropa ein, die sich mit Fragen
  von Identität, Religion und Erinnerungskulturen beschäftigen. Nach dem 
 erfolgreichen Auftakt der Zusammenarbeit im Jahr 2025 soll das Netzwerk nu
 n erweitert und fachliche Schwerpunkte weiter vertieft werden, um weitere 
 gemeinsame Forschungsperspektiven anzutreiben.\n\nDie Tagung bringt innova
 tive Ansätze aus Forschung und Lehre zusammen und führt Expertinnen und 
 Experten aus Theologie und Religionswissenschaft, Geschichts- und Kulturwi
 ssenschaft sowie Pädagogik zusammen. Vertreterinnen und Vertreter von etw
 a 20 Partnerinstitutionen sowie teilnehmende Promovierende stellen ihre Ar
 beitskontexte, laufenden Projekte und zukünftigen Forschungsideen vor, um
  nachhaltige Kooperationen anzubahnen.\n\nAuf dem Programm stehen Fachvort
 räge, thematische Austauschformate und vielfältige Möglichkeiten zur Ve
 rnetzung. Die Universität Passau fungiert als zentrale Plattform für die
 ses wachsende Netzwerk und stärkt damit die langfristige Zusammenarbeit i
 n Forschung und Lehre.\n\nDie Tagung findet vom 20. bis 22. Mai 2026 statt
 .\n\nOrganisatoren: Prof. Dr. Sandra Huebenthal (Lehrstuhl für Exegese un
 d Biblische Theologie), Prof. Dr. Thomas Wünsch (Lehrstuhl für Neuere un
 d Neueste Geschichte Osteuropas und seiner Kulturen)
DTSTAMP:20260421T102342Z
DTSTART:20260520T070000Z
DTEND:20260520T140000Z
END:VEVENT
END:VCALENDAR