BEGIN:VCALENDAR
VERSION:2.0
PRODID:https://github.com/derhansen/sf_event_mgt
METHOD:PUBLISH
BEGIN:VEVENT
UID:10722-7153@www.uni-passau.de
CLASS: PUBLIC
SUMMARY:Lernwerkstatt Religions­unterricht: Lernen an und mit Heiligen: Kirchenfenster
DESCRIPTION:Religiöse Lernprozesse anleiten will gelernt sein! Vorlesungen
  und Seminare liefern das nötige religionspädagogische und religionsdida
 ktische Grundlagenwissen und geben prinzipielle Richtungen vor, können ab
 er vom Selbstverständnis her nur bedingt in die Praxis einführen. Hier k
 nüpft die Lernwerkstatt Religionsunterricht an: Verschiedene Referenten l
 aden jeweils dazu ein, neue Unterrichtsformen und Methoden kennenzulernen 
 und auszuprobieren. Dabei wird ein dreifacher Theorie-Praxis-Zusammenhang 
 angestrebt:\n\nThema: Didaktische Fragestellungen und Konzepte aus Vorlesu
 ngen und Seminaren werden auf ihre Praxistauglichkeit hin untersucht.\n\nL
 eitung: Die Referenten sind reflektierende Religionspädagogen aus Univers
 ität, Lehrerbildung (Religionspädagogisches Seminar, Mentorat, Praktikum
 slehrer, Seminarlehrer) und Schulen verschiedener Schularten und Altersstu
 fen.\n\nTeilnehmer: Studierende, Referendare und Lehrkräfte können teiln
 ehmen und die methodischen Fragenstellungen auf ihrem jeweiligen Erfahrung
 s- und Lebenshintergrund reflektieren.
DTSTAMP:20250227T135600Z
DTSTART:20250519T160000Z
DTEND:20250519T180000Z
END:VEVENT
END:VCALENDAR