BEGIN:VCALENDAR
VERSION:2.0
PRODID:https://github.com/derhansen/sf_event_mgt
METHOD:PUBLISH
BEGIN:VEVENT
UID:10638-7153@www.uni-passau.de
CLASS: PUBLIC
SUMMARY:SoBi Science Slam - ABGESAGT
DESCRIPTION:Am 15. Januar 2025 um 19 Uhr findet im TheatercafÃ© (Unterer Sa
 nd 2) der erste SoBi Science Slam statt!\n\nIhr kÃ¶nnt in 10 Minuten auf l
 ockere Art und Weise eure wissenschaftlichen Arbeiten vorstellen (von der 
 Proseminarbeit bis zur Habilitation ist alles mÃ¶glich) oder auch einfach 
 nur zuhÃ¶ren und euch von euren Kommiliton*innen inspirieren lassen!\n\nDi
 e Anmeldung fÃ¼r Slammer*innen ist bis zum 06. Januar 2025 unter folgendem
  Link mÃ¶glich: www.tinyurl.com/SoBiSlam\n\nGemeinsam mit unserem UnterstÃ
 ¼tzer, dem AlumniClub, freuen uns auf einen interessanten Abend!
DTSTAMP:20250115T163536Z
DTSTART:20250115T180000Z
DTEND:20250115T210000Z
END:VEVENT
END:VCALENDAR