BEGIN:VCALENDAR
VERSION:2.0
PRODID:https://github.com/derhansen/sf_event_mgt
METHOD:PUBLISH
BEGIN:VEVENT
UID:9994-7153@www.uni-passau.de
CLASS: PUBLIC
SUMMARY:Sommerfest der Sozial- und Bildungswissenschaftlichen Fakultät
DESCRIPTION:Sommerfest der Sozial- und Bildungswissenschaftlichen Fakultät
  mit vielfältigem Programm, Essen und Getränken.
DTSTAMP:20240321T111539Z
DTSTART:20240703T170000Z
DTEND:20240703T200000Z
END:VEVENT
END:VCALENDAR